Workbook

Sheet Introductie
A1: Halloo, Hierbij de jaarrekening van seizoen 25/26. Hieronder staat het resultaat van de omzet uitgelegd. De resultaten van afgelopen jaar staan op de resultatenrekening onder kolom D en kolom P. Mocht je vragen hebben stuur mij dan vooral even een appje. De begroting voor seizoen 25/26 (kolom C en kolom O) is al ingehamerd tijdens de begrotingsALV, dus hier kunnen geen posten meer in gewijzigd worden. Mochten er verder nog vragen of opmerkingen zijn, dan hoor ik dat graag. Groetjes, Silver Luinge 0639757264
A8: De omzet is ongeveer €70k lager uitgevallen dan begroot. Hoewel dit een groot verschil is, is het resultaat niet met 70k gedaald. Tegenover lagere omzet staan ook lagere kosten. Het begrote resultaat bedroeg ongeveer €154k, uiteindelijk is een resultaat van €118k gerealiseerd. Daarmee valt het werkelijke resultaat €36k lager uit dan begroot. De daling in omzet is deels veroorzaakt door een lagere verkoop tijdens KB. Met KB is er een omzet van 20k gerealiseerd, tegenover 32k met IT. De omzet lag dus 12k lager dan tijdens IT. Daarnaast is de bar aan het begin van het seizoen enige tijd gesloten geweest. Hierdoor is in augustus minder omzet gerealiseerd dan normaal. Inmiddels zien we daar een duidelijke verbetering: in augustus 2026 is tot nu toe ongeveer €10.000 omzet gerealiseerd, tegenover ongeveer €1.500 in augustus 2025. Het open feest in de Keiweek en het STAR toernooi hebben hier waarschijnlijk aan bijgedragen. Als we de begrote omzet vergelijken met de werkelijke omzet, zien we dat het grootste verschil zit in de bierverkoop. Hier is ongeveer €50.000 minder omzet gerealiseerd dan begroot. Daarnaast is de omzet uit overige producten, zoals snoep, chips, frisdrank en koffie, ongeveer €18.000 lager uitgevallen. De lagere bieromzet kun je ook terug zien door de inkoopcijfers. Er is ongeveer 14.500 liter minder bier ingekocht dan verwacht. Bij de verkoop van blikken zien we daarentegen geen groot verschil ten opzichte van de begroting. Onder gunstigere omstandigheden was de verkoop van blikken waarschijnlijk nog hoger uitgevallen. Door de lage inkoopprijzen op bier hebben we een hogere winstmarge op de verkoop hiervan dan de verkoop van stelz. Met een lagere afname van bier dan verwacht is het dus verklaarbaar dat de omzet ook lager is dan verwacht. Deze cijfers laten een ontwikkeling over meerdere jaren zien: er wordt steeds minder bier gedronken, terwijl de verkoop van blikken toeneemt. Deze trend moeten we blijven volgen en hier bij een volgende begroting beter rekening mee houden.

Sheet Balans
A1: Balans per 31-07-2026
B2: Debet | S2: Credit
D3: 46234 | E3: 45869 | F3: 45504 | G3: 45138 | H3: 44773 | I3: 44408 | N3: 46234 | O3: 45869 | P3: 45504 | Q3: 45138 | R3: 44773 | S3: 44408
C4: Vaste activa | M4: Eigen vermogen
B5: 1 | C5: Panden | D5: 62785.31 | E5: 54444.22 | F5: 73657.2 | G5: 92870.66 | H5: 112083.82 | I5: 131297.13 | L5: 19 | M5: Eigen vermogen | N5: =D32-SUM(N6:N22) -> 240522.79 | O5: 227867.67 | P5: 221199.67 | Q5: 198351.3 | R5: 165171.17 | S5: 190790.83
B6: 2 | C6: Inventaris | D6: =Inventaris!E38 -> 44068.83 | E6: 32112.96 | F6: 9776.49 | G6: 6417.73 | H6: 2815.8 | I6: =3615.52 -> 3615.52 | L6: 20 | M6: Donateursreserve | N6: 77297.21 | O6: 71905.21 | P6: 67179.59 | Q6: 61644.28 | R6: 44694.7 | S6: 53192.95
B7: 3 | C7: Nieuw tapsysteem | D7: 42137.74 | E7: € - | F7: € - | G7: € - | H7: 4012.72 | I7: 8027.14
M8: Langdurend VV
L9: 21 | M9: Rabobank annuiteiten | N9: € - | O9: € - | P9: € - | Q9: € - | R9: € - | S9: 14017.05
C10: Voorraden | L10: 22 | M10: Rabobank aflossingvrij | N10: € - | O10: € - | P10: € - | Q10: € - | R10: 30000 | S10: 30000
B11: 4 | C11: Voorraad Flophouse | D11: 22539.43 | E11: 19177.69 | F11: 12127.21 | G11: 4616.09 | H11: 7265.69 | I11: 8024.65 | L11: 23 | M11: Lening gemeente | N11: € - | O11: € - | P11: € - | Q11: € - | R11: 8739.19 | S11: 10334.69
B12: 5 | C12: Voorraad clubkleding | D12: 6124.6 | E12: 770.1 | F12: 1363.18 | G12: 484.21 | H12: 666.35 | I12: 2292.47 | L12: 24 | M12: Voorziening 12e lustrum | N12: 19000 | O12: 9000 | P12: 6000 | Q12: 3000 | R12: € - | S12: 10065
B13: 6 | C13: Voorraad merchandise | D13: 270.27 | E13: 257.02 | F13: 303.25 | G13: 371.91 | H13: 766 | I13: 515 | L13: 25 | M13: Voorziening zeil | N13: 3730 | O13: 2980 | P13: 2230 | Q13: =R13-2750+750 -> 1480 | R13: 3480 | S13: 2730
L14: 26 | M14: Voorziening Dotcom | N14: 905.96 | O14: 905.96 | P14: 1401 | Q14: 1401 | R14: 1401 | S14: 1401
L15: 27 | M15: Voorziening Duurzaamheid | N15: 9074.83 | O15: 5316.5 | P15: 2114 | Q15: € - | R15: € - | S15: € -
C16: Vlottende activa
B17: =B13+1 -> 7 | C17: Debiteuren | D17: =Debiteuren!B16 -> 36817.49 | E17: 10531 | F17: 2545.74 | G17: 4016.6 | H17: 13210.38 | I17: 801.5 | M17: Kortdurend VV
B18: 8 | C18: Nog te ontvangen bedragen | D18: 3334.17 | E18: 25781.63 | F18: 2861.01 | G18: € - | H18: € - | I18: € - | L18: 28 | M18: Nog te betalen bedragen | N18: 22521.34 | O18: 8994.73 | P18: 12210.58 | Q18: 6959.89 | R18: € - | S18: € -
B19: 9 | C19: Vooruitbetaalde bedragen | D19: 8034.03 | E19: 5718.84 | F19: 4274.3 | G19: 2296.2 | H19: 3329.2 | I19: € - | L19: 29 | M19: Vooruit ontvangen bedragen | N19: 5297.97 | O19: 714.17 | P19: 3347.28 | Q19: 799.49 | R19: - | S19: 1895
B20: 10 | C20: ABN Amro spaarrekening | D20: 7.67 | E20: 7.59 | F20: 7.47 | G20: 7.37 | H20: 7.36 | I20: 7.36 | L20: 30 | M20: Vooruit ontvangen bedragen Toernooien | N20: € - | O20: € - | P20: € - | Q20: € - | R20: € - | S20: € -
B21: 11 | C21: ABN Amro spaarrekening | D21: 11973.9 | E21: 74679.4 | F21: 74679.4 | G21: 74679.4 | H21: 89684.67 | I21: 89679.4 | L21: 31 | M21: Vooruit ontvangen bedragen tapsysteem | N21: € - | O21: € - | P21: € - | Q21: € - | R21: 5000 | S21: 10000
B22: 12 | C22: ABN Amro betaalrekening | D22: 4101.96 | E22: 20549.91 | F22: 64045.9 | G22: 32466.23 | H22: 15146 | I22: 10956.12 | L22: 32 | M22: Crediteuren | N22: =Crediteuren!C14 -> 7823.03 | O22: 7051.53 | P22: 25223.43 | Q22: 5359.62 | R22: 9958.83 | S22: 4127.83
B23: 13 | C23: Rabobank betaalrekening | D23: 19823.47 | E23: 35287.55 | F23: 25232.5 | G23: 14874.67 | H23: 11489.18 | I23: 6418.48 | L23: 33 | M23: Te betalen BTW | O23: € - | P23: € - | Q23: 141 | R23: € - | S23: 1418
B24: 14 | C24: Rabobank spaarrekening | D24: 92763.79 | E24: 69789.76 | F24: 68671.02 | G24: 67968.99 | H24: 52958.22 | I24: 52596.01
B25: 15 | C25: Kas | D25: 354.7 | E25: 354.3 | F25: 477.5 | G25: 428 | H25: 2281.1 | I25: 4909.45
B26: 16 | C26: Te ontvangen BTW | D26: 5397.59 | E26: 3320.92 | F26: 12277 | G26: 0 | H26: 4958 | I26: € -
B31: 17 | C31: Resultaat (verlies) | D31: 25638.18 | H31: € - | L31: 34 | M31: Resultaat (winst) | O31: 18047.12 | P31: 11393.62 | Q31: =Resultatenrekening!K73 | R31: 52229.6 | S31: 10130
B32: 18 | C32: Totaal activa | D32: =SUM(D5:D31) -> 386173.13 | E32: =SUM(E5:E31) -> 352782.89 | F32: =SUM(F5:F30) -> 352299.17 | G32: =SUM(G5:G31) -> 301498.06 | H32: =SUM(H5:H26) -> 320674.49 | I32: =SUM(I5:I31) -> 319140.23 | L32: 35 | M32: Totaal passiva | N32: =SUM(N5:N31) -> 386173.13 | O32: =SUM(O5:O31) -> 352782.89 | P32: =SUM(P5:P31) -> 352299.17 | Q32: =SUM(Q5:Q31) -> 279136.58 | R32: =SUM(R5:R31) -> 320674.49 | S32: =SUM(S5:S31) -> 340102.35

Sheet Uitleg balans
A1: Uitleg balans per post
A3: Activa
A4: 1 | B4: Zie tabblad Panden
A5: =A4+1 -> 2 | B5: Zie tabblad Inventaris
A6: =A5+1 -> 3 | B6: Zie tabblad Tapsysteem.
A7: =A6+1 -> 4 | B7: Zie tabblad Voorraad
A8: =A7+1 -> 5 | B8: Zie tabblad Clubkleding
A9: =A8+1 -> 6 | B9: Zie tabblad Merchandise.
A10: =A9+1 -> 7 | B10: Zie tabblad Debiteuren.
A11: =A10+1 -> 8 | B11: Nog te ontvangen bedragen, dit omvat de borg voor de sleutels van het hek bij Astrea, de fusten van juli, de GUF subsidie voor de toernooien en de sponsoring en herstelbedrag brandschade veld.
A12: =A11+1 -> 9 | B12: Vooruitbetaalde bedragen, dit omvat de accomodatie nieuwelingenweekend, bestuurshemden van beoogd bestuur, veo abonnement, verzekering, ballen STAR, dassen bestuur 25/26, locatie van overdrachtsweekend (welke zal worden bekostigd door bestuur en beoogd) en Knvb kosten volgend seizoen.
A13: =A12+1 -> 10 | B13: Saldo op de ABN Amro internetspaarrekening.
A14: =A13+1 -> 11 | B14: Saldo op de ABN Amro internetspaarrekening.
A15: =A14+1 -> 12 | B15: Saldo op de ABN Amro betaalrekening.
A16: =A15+1 -> 13 | B16: Saldo op de Rabobank betaalrekening.
... A21: =A20+1 -> 18 | B21: Totaal
A23: Passiva
A24: =A21+1 -> 19 | B24: Eigen vermogen
A25: =A24+1 -> 20 | B25: Deze reserve betreft de donateursresultaten. De mutatie is de het verschil tussen de binnengekomen donateursreserve en de Kosten SOK over het boekjaar 25/26
A26: =A25+1 -> 21 | B26: De Rabobank annuiteitenlening is volledig afgelost.
A27: =A26+1 -> 22 | B27: Deze lening is volledig afbetaald.
A28: =A27+1 -> 23 | B28: Deze lening is volledig afbetaald.
A29: =A28+1 -> 24 | B29: Er wordt een voorziening opgebouwd voor het volgende Lustrum.
A30: =A29+1 -> 25 | B30: Deze voorziening wordt opgebouwd door de toernooien voor de aanschaf van een nieuw zeil.
A31: =A30+1 -> 26 | B31: Voorziening van de DotCom voor een nieuwe computer. Dit jaar is een nieuwe PC aangeschaft, waarvoor de voorziening is aangewend.
A32: =A31+1 -> 27 | B32: De duurzaamheidsvoorziening is gevuld met het bedrag aan boetes wat dit jaar is gehaald. Op dit potje kunnen commissies ook aanspraak maken om zo duurzamere opties te kiezen waar geen budget voor is.
A33: =A32+1 -> 28 | B33: Dit omvat de veldenhuur voor IT (635,10), Reinigen bekers juli (282,20), KB vergunning (364,32), Extra entertainment IT (425,0), prijs verhoging HSV (444,20), CCV abonement (229,89), Lasergamen ALD (185,10), Sponsorbord pubuiz (169,40), GDD opbrengst (7229,01), Veldenhuur Veld 15 mei (77,80), DUMAVA subsidie (12390), Hestia fusten (150), IT vergunning (364,32)
A34: =A33+1 -> 29 | B34: Vooruitontvangen bedragen, omvat: 314,97 aan winst op de merchandise van de taskforce dat gereserveerd is voor nieuwelingenweekend, Sponsoring Gat, fust, salm, pollo, burger, all prepare, parcel safe sponsoring t/m 31/1 25/26 en Sportmaat 25/26 (4983).
A35: =A34+1 -> 30 | B35: Dit jaar zijn er geen vooruitontvangen bedragen van de toernooien.
A36: =A35+1 -> 31 | B36: Vooruit ontvangen bedrag van Bavaria ten behoeve van het nieuwe tapsysteem. Dit is inmiddels al ontvangen en verwerkt.
... A40: =A39+1 -> 35 | B40: Totaal

Sheet Resultatenrekening
B1: Lasten | C1: Begroot | D1: Werkelijk | E1: Begroot | F1: Werkelijk | G1: Begroot | H1: Werkelijk | I1: Begroot | J1: Werkelijk | K1: Begroot | N1: Baten | O1: Begroot | P1: Werkelijk | Q1: Begroot | R1: Werkelijk | S1: Begroot | T1: Werkelijk | U1: Begroot | V1: Werkelijk | W1: Begroot
B2: Flophouse | C2: 2026-2027 | D2: 2025-2026 | E2: 2025-2026 | F2: 2024-2025 | G2: 2024-2025 | H2: 2023-2024 | I2: 2023-2024 | J2: 2022-2023 | K2: 2022-2023 | N2: Omzet | O2: 2026-2027 | P2: 2025-2026 | Q2: 2025-2026 | R2: 2024-2025 | S2: 2024-2025 | T2: 2023-2024 | U2: 2023-2024 | V2: 2022-2023 | W2: 2022-2023
A3: 1 | B3: Kosten omzet | C3: 246732 | D3: 192484.82 | E3: 227165 | F3: 247052.63 | G3: 248806 | H3: 251030.11 | I3: 203897.7 | J3: =22342.66+59812.56+12664.22+128530.17+2649.6 -> 225999.21 | K3: 172896 | M3: 61 | N3: Omzet | O3: 408689 | P3: 312067.72 | Q3: 381662 | R3: 373810.39 | S3: 356290 | T3: 366142.35 | U3: 312777.18 | V3: =336419.91+871.39 -> 337291.3 | W3: 266503
A4: 2 | B4: Afschrijvingskosten panden | C4: 20145.59 | D4: =Panden!F18 -> 22274.81 | E4: 19213 | F4: 19213 | G4: 19213 | H4: 19213 | I4: 19213 | J4: 19213 | K4: 19213
A5: 3 | B5: Afschrijvingskosten inventaris | C5: 10538.87 | D5: =Inventaris!F38 -> 7633.86 | E5: 6574.09 | F5: 5975.99 | G5: 3445.88 | H5: 2941.06 | I5: 1510.88 | J5: 1440.06 | K5: 1278.88 | N5: Contributie / boekingen
A6: 4 | B6: Afschrijvingskosten tapsysteem/bar | C6: 4682 | D6: 4681.97 | E6: 3000 | F6: 0 | G6: - | H6: - | I6: - | J6: 4012 | K6: 4012 | M6: =M3+1 -> 62 | N6: Contributie | O6: 51440 | P6: 52629 | Q6: 51148 | R6: 63507.4 | S6: 61267 | T6: 60332.2 | U6: 61267 | V6: 56349.9 | W6: 53830
A7: 5 | B7: Onderhoud/reparatie | C7: 8000 | D7: 11425.84 | E7: 8000 | F7: 10590.74 | G7: 7300 | H7: 6231.37 | I7: 7300 | J7: 9794.57 | K7: 7300 | M7: =M6+1 -> 63 | N7: Contributie almanakbijdrage | O7: 7040 | P7: 7106 | Q7: 7040 | R7: 5760 | S7: 5544 | T7: 5544 | U7: 5128 | V7: 5434.1 | W7: 4700
A8: 6 | B8: GWE | C8: 4200 | D8: 4283.87 | E8: 6100 | F8: 5947.65 | G8: 6000 | H8: 7167.42 | I8: 17600 | J8: 11158.6 | K8: 3200 | M8: =M7+1 -> 64 | N8: Eerstejaarsbijdrage | O8: 4500 | P8: 5450 | Q8: 4250 | R8: 5325 | S8: 4250 | T8: 4200 | U8: 4250 | V8: 5325 | W8: 4500
A9: =A8+1 -> 7 | B9: Afvalkosten | C9: 11200 | D9: 8420.27 | E9: 11200 | F9: 10221.36 | G9: 10500 | H9: 10852.92 | I9: 10000 | J9: 8977.44 | K9: 8500 | M9: =M8+1 -> 65 | N9: Boekingen KNVB | O9: 1950 | P9: 1435.5 | Q9: 1950 | R9: 1672.7 | S9: 1500 | T9: 2033.5 | U9: 1500 | V9: 1526.2 | W9: 1500
A10: =A9+1 -> 8 | B10: Muziekinstallatie | C10: 700 | D10: 763.56 | E10: 700 | F10: 1181.07 | G10: 700 | H10: 689 | I10: 700 | J10: 708.75 | K10: 700
A11: =A10+1 -> 9 | B11: Internet en tv-kosten | C11: 2500 | D11: 2385.26 | E11: 2320 | F11: 2000.43 | G11: 820 | H11: 724.09 | I11: 820 | J11: 694.88 | K11: 800 | N11: Sponsoring
A12: =A11+1 -> 10 | B12: Servicekosten kassa | C12: 1125 | D12: 1116.08 | E12: 1125 | F12: 1087.8 | G12: 1125 | H12: 1087.8 | I12: 1100 | J12: 1087.8 | K12: 1100 | M12: 66 | N12: Hoofdsponsor | O12: 3750 | P12: 3750 | Q12: 2500 | R12: 3750 | S12: 3750 | T12: 3750 | U12: 3750 | V12: 3750 | W12: 3750
A13: =A12+1 -> 11 | B13: Gebruikskosten kassa | C13: 3000 | D13: 2555.01 | E13: 3100 | F13: 4056.61 | G13: 3150 | H13: 3446.3 | I13: 3150 | J13: 2717.66 | K13: 3000 | M13: 67 | N13: Sponsoring bierleverancier | O13: 26015 | P13: 26015 | Q13: 21500 | R13: 6416.67 | S13: 11000 | T13: 11000 | U13: 11000 | V13: 11000 | W13: 11000
A14: =A13+1 -> 12 | B14: Kleine inventaris | C14: 3000 | D14: 3542.21 | E14: 3000 | F14: 4010.64 | G14: 2300 | H14: 3165.02 | I14: 1250 | J14: 1039.5 | K14: 1000 | M14: 68 | N14: Subsponsoren | O14: 4000 | P14: 4325 | Q14: 4000 | R14: 5349.5 | S14: 4000 | T14: 4641.81 | U14: 4000 | V14: 3681.4 | W14: 4000
M15: 69 | N15: Sponsoring Kledingleverancier | O15: 2500 | P15: 2500 | Q15: 2500 | R15: 2500 | S15: 2500 | T15: 2500 | U15: 2500 | V15: 2500 | W15: 2500
B16: Voetbal | M16: 70 | N16: Bezorgbord | O16: 2500 | P16: 2317 | Q16: 2500 | R16: 2400 | S16: 2500 | T16: 2300 | U16: 2500 | V16: 3100 | W16: 2200
A17: =A14+1 -> 13 | B17: KNVB bijdrage | C17: 20950 | D17: 20137.9 | E17: 19950 | F17: 20942.7 | G17: 21100 | H17: 19041.83 | I17: 19023 | J17: 17649.8 | K17: 18700 | M17: 71 | N17: Almanaksponsoren | O17: 850 | P17: 1100 | Q17: 500 | R17: 1850 | S17: 1200 | T17: 950 | U17: 1200 | V17: 1500 | W17: 900
A18: =A17+1 -> 14 | B18: KNVB boekingen | C18: 1950 | D18: 1435.5 | E18: 1950 | F18: 1672.7 | G18: 1500 | H18: 2033.5 | I18: 1500 | J18: 1526.2 | K18: 1500
A19: =A18+1 -> 15 | B19: Veldenhuur | C19: 53130 | D19: 52384.75 | E19: 32925 | F19: 34881.98 | G19: 33900 | H19: 31389.54 | I19: 30900 | J19: 31804.66 | K19: 30000 | N19: Overigen
A20: =A19+1 -> 16 | B20: Trainers/leiders | C20: 29404 | D20: 23022.18 | E20: 30150 | F20: 41946.24 | G20: 42000 | H20: 48391.66 | I20: 45000 | J20: 38375.33 | K20: 40000 | M20: 72 | N20: Rente inkomsten | O20: 1974 | P20: 1786.09 | Q20: 1930 | R20: 2239.04 | S20: 1500 | T20: 1395.64 | U20: 35 | V20: 35.07 | W20: 10
A21: =A20+1 -> 17 | B21: Materialen | C21: 3900 | D21: 5983 | E21: 5500 | F21: 3315.01 | G21: 3300 | H21: 3829.65 | I21: 3300 | J21: 4408.56 | K21: 3000 | M21: 73 | N21: Subsidies | O21: 28045 | P21: 25910.94 | Q21: 23331 | R21: 23516 | S21: 17500 | T21: 20995.63 | U21: 15000 | V21: 20292.01 | W21: 15000
A22: =A21+1 -> 18 | B22: Reiskosten | C22: 10815 | D22: 12030.62 | E22: 12160 | F22: 13079.02 | G22: 10000 | H22: 10643.3 | I22: 9500 | J22: 9945.98 | K22: 9000 | M22: 74 | N22: Diverse baten | O22: 0 | P22: 8206.19 | Q22: 0 | R22: 9481.13 | S22: - | T22: 3310.21 | U22: - | V22: 5533.9 | W22: -
A23: =A22+1 -> 19 | B23: Afschrijvingskosten clubkleding | C23: 3842 | D23: 3675.23 | E23: 3323 | F23: 907.42 | G23: 1045 | H23: 802.64 | I23: 744.44 | J23: 908.45 | K23: 1100 | M23: 75 | N23: Lustrumboek verkoop | O23: 0 | P23: - | Q23: 0 | R23: 0 | S23: - | T23: 0 | U23: - | V23: 9 | W23: 0
A24: =A23+1 -> 20 | B24: Reserveshirts | C24: 500 | D24: 973.8 | E24: 500 | F24: 475.2 | G24: 500 | H24: 1020.51 | I24: 500 | J24: 220 | K24: 500 | M24: 76 | N24: Donateursbijdrage | O24: 12750 | P24: 12325 | Q24: 12500 | R24: 12300 | S24: 12200 | T24: 12325 | U24: 11100 | V24: 12075 | W24: 10800
A25: =A24+1 -> 21 | B25: VEO | C25: 1840 | D25: 2189.49 | E25: 1840 | F25: 1839.5 | G25: 1840 | H25: 1839.5 | I25: 1088 | J25: 898 | M25: 77 | N25: Bijdrage Sportcentrum trainers | O25: 0 | P25: 4490.56 | Q25: 6500 | R25: 13972.32 | S25: 13500 | T25: 16237.92 | U25: 13000 | V25: 12422.8 | W25: 11600
A26: =A25+1 -> 22 | B26: Scheidsrechterskosten | C26: 700 | D26: 953.2 | E26: 800 | F26: 515 | G26: 900 | H26: 650 | I26: 500 | J26: 483 | K26: 460 | M26: 78 | N26: Bijdrage Bavaria tapsysteem/Heineken bar | O26: 7260 | P26: 7260 | Q26: 6000 | R26: 0 | S26: - | T26: 0 | U26: 5000 | V26: 5000 | W26: 5000
A27: =A26+1 -> 23 | B27: Selectie | C27: 1600 | D27: 0 | E27: 0 | F27: 0 | G27: 0 | H27: 0 | I27: 0 | J27: 0 | K27: 0
B29: Overige activiteiten
A30: =A27+1 -> 24 | B30: Flop inkopen | C30: 600 | D30: 505.92 | E30: 600 | F30: 463.9 | G30: 600 | H30: 470.3 | I30: 600 | J30: 480.93 | K30: 600
A31: =A30+1 -> 25 | B31: Taskforce | C31: 1700 | D31: 1533.05 | E31: 1700 | F31: 181.49 | G31: 200 | H31: 184.32 | I31: 200 | J31: 110.61 | K31: 200
A32: =A31+1 -> 26 | B32: Website | C32: 3170 | D32: 3016.69 | E32: 2600 | F32: 2807.16 | G32: 2200 | H32: 2310.92 | I32: 2000 | J32: 2032.4 | K32: 1250
A33: =A32+1 -> 27 | B33: Activiteiten FC | C33: 3300 | D33: 3650 | E33: 3650 | F33: 2878 | G33: 2878 | H33: 2878 | I33: 2878 | J33: 2641.6 | K33: 3050
A34: =A33+1 -> 28 | B34: Actiefleden activiteiten | C34: 6550 | D34: 8476.43 | E34: 8750 | F34: 5313.16 | G34: 4750 | H34: 5137.11 | I34: 4500 | J34: 4543.81 | K34: 4500
A35: =A34+1 -> 29 | B35: Donatie lustrum | C35: 7500 | D35: 10000 | E35: 10000 | F35: 3000 | G35: 3000 | H35: 3000 | I35: 3000 | J35: 3000 | K35: 3000
A36: =A35+1 -> 30 | B36: Donatie IT | C36: 9500 | D36: 9500 | E36: 9500 | F36: 4700 | G36: 4075 | H36: 4075 | I36: 4075 | J36: 3750 | K36: 3750
A37: =A36+1 -> 31 | B37: Donatie Knockerbicker | C37: 7250 | D37: 7250 | E37: 7250 | F37: 2800 | G37: 2445 | H37: 2445 | I37: 2445 | J37: 2250 | K37: 2250
A38: =A37+1 -> 32 | B38: Kosten SOK | C38: 7000 | D38: 6932.76 | E38: 6900 | F38: 7574.38 | G38: 6100 | H38: 6664.69 | I38: 5500 | J38: 6234.64 | K38: 5500
A39: =A38+1 -> 33 | B39: Sponsorkosten | C39: 1800 | D39: 607.69 | E39: 2200 | F39: 2465.08 | G39: 2000 | H39: 1301.36 | I39: 3000 | J39: 879.45 | K39: 3000
A40: =A39+1 -> 34 | B40: Clubblad | C40: 6300 | D40: 6226.58 | E40: 7555 | F40: 7062.55 | G40: 5318 | H40: 7914.85 | I40: 7500 | J40: 7003.89 | K40: 6800
A41: =A40+1 -> 35 | B41: Almanakkosten | C41: 7800 | D41: 8181.79 | E41: 7500 | F41: 7595.44 | G41: 8000 | H41: 6494 | I41: 7710 | J41: 6933.86 | K41: 5200
...

Sheet Uitleg lasten
A1: Lasten
A2: 1 | B2: Zijn de kosten voor de omzet, blikken, statiegeld en bier bij elkaar opgeteld.
A3: =A2+1 -> 2 | B3: Zie tabblad panden
A4: =A3+1 -> 3 | B4: Zie tabblad inventaris
A5: =A4+1 -> 4 | B5: Zie tabblad Bar/tapinstallatie
A6: =A5+1 -> 5 | B6: Kosten die te maken hebben met het onderhoud van het Flop. Grote kostenposten zijn: onderhoud camerasysteem, werkzaamheden van de nieuwe bar, Scope elektra keuring en herstelwerkzaamheden, vervangen van sloten en contracten voor standaardonderhoud zoals reinigen taps en koelcel.
A7: =A6+1 -> 6 | B7: Kosten voor gas, water en elektra. Volgend jaar zal er een ventilatiesysteem in combinatie met een warmtepomp geplaatst worden. Hierdoor kunnen we als club volledig van het gas af en zal dit dus deze kosten besparen.
A8: =A7+1 -> 7 | B8: Kosten voor het maandelijkse abonnement bij Renewi afvalverwerking en schoonmaakspullen voor in het Flop.
A9: =A8+1 -> 8 | B9: Kosten voor het abonnement van de DDJ.
A10: =A9+1 -> 9 | B10: Jaarlijke kosten voor internet en tv-abonnementen.
A11: =A10+1 -> 10 | B11: Kosten voor het functioneren van de kassasystemen.
A12: =A11+1 -> 11 | B12: Kosten voor de transacties van de kassa. Deze bedragen rond de 7 cent per transactie.
A13: =A12+1 -> 12 | B13: Kosten voor het aanschaffen van dingen met een waarde onder de 450 euro zoals pullen, pitchers, tosti-ijzers of barkrukken. Extra aangeschaft dit jaar is een nieuwe kookplaat en de JBL partybox
A14: =A13+1 -> 13 | B14: De jaarlijkse bijdrage die TKB afstaat aan de KNVB.
... A58: =A57+1 -> 57 | B58: Deze post wordt gebruikt om de boetes te doteren aan de Voorziening Duurzaamheidspotje. De boetes zijn initieel geboekt in de post 'Diverse baten'.

Sheet Uitleg baten
A1: Baten
A2: 62 | B2: Omzet van het flop. De algehele ratio is 1,59
A3: =A2+1 -> 63 | B3: De jaarlijkse contributie van de leden inclusief proefleden. Hier worden ook compensaties gedaan voor geblesseerde spelers.
A4: =A3+1 -> 64 | B4: Ledenbijdrage voor de almanak, €11,00 per lid
A5: =A4+1 -> 65 | B5: Bijdrage van de nieuwelingen. Dit is onder andere een compensatie voor de inschrijf- en de uitschrijfkosten.
A6: =A5+1 -> 66 | B6: Tegenpost van post 15
A7: =A6+1 -> 67 | B7: Het bedrag dat de hoofdsponsor betaalt
A8: =A7+1 -> 68 | B8: Jaarlijkse sponsoring van Heineken. Hoger dan verwacht, omdat we de btw die hoeven af te leveren.
A9: =A8+1 -> 69 | B9: Dit zijn de overige sponsorinkomsten. Zie tabblad "Debiteuren" en "Opbouw sponsorbedragen" voor meer informatie over sponsoring en de betalingen.
A10: =A9+1 -> 70 | B10: Sponsoring door sportmaat
A11: =A10+1 -> 71 | B11: Sponsorinkomsten door het bezorgbord
A12: =A11+1 -> 72 | B12: De inkomsten van de sponsoren in de almanak
A13: =A12+1 -> 73 | B13: Rente-inkomsten van de spaarrekeningen van de club.
A14: =A13+1 -> 74 | B14: Dit omvat subsidie die we van de aclo ontvangen voor onze accommodatie en materialen
... A19: =A18+1 -> 79 | B19: Bijdrage die Bavaria heeft geleverd voor het aanschaffen van een nieuw tapsysteem. Dit bedrag wordt verdeeld over 5 jaar, dus €5.000 per jaar. Dit bedrag is in seizoen 22/23 al volledig ontvangen. Vanaf seizoen 25/26 wordt hier de bijdrage van Heineken voor de bar op geboekt.

Sheet Panden
A1: 2026-2027
A2: Item | B2: Termijn | C2: Leeftijd | D2: Nieuwwaarde | E2: Waarde | F2: Afschrijvingskosten
A3: Flophouse | B3: 20 | C3: 19 | D3: 320420 | E3: =D3-F3*C3 -> 16021 | F3: 16021
A4: Terrasuitbreiding | B4: 10 | C4: 8 | D4: 10630 | E4: 3189 | F4: 1063
A5: Terrasuitbreiding 5 meter | B5: 10 | C5: 1 | D5: 2526 | E5: 2273.4 | F5: 252.6
A6: Schuifpuien | B6: 10 | C6: 1 | D6: 28089.9 | E6: 25280.91 | F6: 2808.99
D7: =SUM(D3:D6) -> 361665.9 | E7: =SUM(E3:E6) -> 46764.31 | F7: =SUM(F3:F6) -> 20145.59
A10: 2025-2026
A11: Item | B11: Termijn | C11: Leeftijd | D11: Nieuwwaarde | E11: Waarde | F11: Afschrijvingskosten
A12: Flophouse | B12: 20 | C12: 18 | D12: 320420 | E12: 32042 | F12: 16021
A13: Zonnepanelen | B13: 10 | C13: 10 | D13: 13561 | E13: € - | F13: 1356.1
A14: Terras | B14: 10 | C14: 10 | D14: 7731.21 | E14: 0 | F14: 773.12
A15: Terrasuitbreiding | B15: 10 | C15: 7 | D15: 10630 | E15: 3189 | F15: 1063
A16: Terrasuitbreiding 5 meter | B16: 10 | C16: 1 | D16: 2526 | E16: 2273.4 | F16: 252.6
A17: Schuifpuien | B17: 10 | C17: 1 | D17: 28089.9 | E17: 25280.91 | F17: 2808.99
D18: =SUM(D12:D17) -> 382958.11 | E18: =SUM(E12:E17) -> 62785.31 | F18: =SUM(F12:F17) -> 22274.81
A21: 2024-2025
A22: Item | B22: Termijn | C22: Leeftijd | D22: Nieuwwaarde | E22: Waarde | F22: Afschrijvingskosten
A23: Flophouse | B23: 20 | C23: 17 | D23: 320420 | E23: 48063 | F23: 16021
A24: Zonnepanelen | B24: 10 | C24: 9 | D24: 13561 | E24: 1356.1 | F24: 1356.1
A25: Terras | B25: 10 | C25: 9 | D25: 7731.21 | E25: 773.12 | F25: 773.12
A26: Terrasuitbreiding | B26: 10 | C26: 6 | D26: 10630 | E26: 4252 | F26: 1063
D27: =SUM(D23:D26) -> 352342.21 | E27: =SUM(E23:E26) -> 54444.22 | F27: =SUM(F23:F26) -> 19213.22
A30: 2023-2024
A31: Item | B31: Termijn | C31: Leeftijd | D31: Nieuwwaarde | E31: Waarde | F31: Afschrijvingskosten
A32: Flophouse | B32: 20 | C32: 16 | D32: 320420 | E32: 64084 | F32: 16021
A33: Zonnepanelen | B33: 10 | C33: 8 | D33: 13561 | E33: 2712.2 | F33: 1356.1
A34: Terras | B34: 10 | C34: 8 | D34: 7731.21 | E34: 1546 | F34: 773
A35: Terrasuitbreiding | B35: 10 | C35: 5 | D35: 10630 | E35: 5315 | F35: 1063
D36: =SUM(D32:D35) -> 352342.21 | E36: =SUM(E32:E35) -> 73657.2 | F36: =SUM(F32:F35) -> 19213.1
A39: 2022-2023
A40: Item | B40: Termijn | C40: Leeftijd | D40: Nieuwwaarde | E40: Waarde | F40: Afschrijvingskosten
A41: Flophouse | B41: 20 | C41: 15 | D41: 320420 | E41: 80105 | F41: 16021
A42: Zonnepanelen | B42: 10 | C42: 7 | D42: 13561 | E42: 4068.3 | F42: 1356.1
A43: Terras | B43: 10 | C43: 7 | D43: 7731.21 | E43: 2319.36 | F43: 773.12
A44: Terrasuitbreiding | B44: 10 | C44: 4 | D44: 10630 | E44: 6378 | F44: 1063
D45: =SUM(D41:D44) -> 352342.21 | E45: =SUM(E41:E44) -> 92870.66 | F45: =SUM(F41:F44) -> 19213.22
A48: 2021-2022
A49: Item | B49: Termijn | C49: Leeftijd | D49: Nieuwwaarde | E49: Waarde | F49: Afschrijvingskosten
A50: Flophouse | B50: 20 | C50: 14 | D50: 320420 | E50: 96126 | F50: 16021
...

Sheet Inventaris
A1: 2026-2027
A2: Item | B2: Termijn | C2: Leeftijd | D2: Nieuwwaarde | E2: Waarde | F2: Afschrijvingskosten
A3: CV-Ketel | B3: 12 | C3: 8 | D3: 2554 | E3: =D3-F3*C3 -> 852.32 | F3: 212.71
A4: Vaatwasser | B4: 5 | C4: 5 | D4: 1259 | E4: =D4-F4*C4 -> 0 | F4: =D4/B4 -> 251.8
A5: Koelkasten | B5: 5 | C5: 5 | D5: 1673 | E5: 141 | F5: 141
A6: VEO-camera | B6: 5 | C6: 4 | D6: 999 | E6: =D6-C6*F6 -> 199.8 | F6: =D6/B6 -> 199.8
A7: Boxen | B7: 5 | C7: 4 | D7: 3812.7 | E7: =D7-F7*C7 -> 762.54 | F7: =D7/B7 -> 762.54
A8: Camera Mediateam | B8: 5 | C8: 4 | D8: 833.19 | E8: =D8-F8*C8 -> 166.638 | F8: =D8/B8 -> 166.638
A9: Picknickbanken | B9: 5 | C9: 4 | D9: 1427.93 | E9: =D9-F9*C9 -> 285.586 | F9: =D9/5 -> 285.586
A10: Keuken | B10: 10 | C10: 3 | D10: 10434.61 | E10: =D10-F10*C10 -> 7304.227 | F10: =D10/B10 -> 1043.461
A11: Mantelbuis scorebord | B11: 10 | C11: 3 | D11: 4267.32 | E11: =D11-F11*C11 -> 2987.124 | F11: =D11/B11 -> 426.732
A12: Elektra | B12: 10 | C12: 3 | D12: 11593.06 | E12: =D12-F12*C12 -> 8115.142 | F12: =D12/B12 -> 1159.306
A13: Jassen trainers | B13: 3 | C13: 3 | D13: 560 | E13: =D13-F13*C13 -> 0 | F13: =D13/B13 -> 186.66667
A14: Picknickbanken | B14: 5 | C14: 3 | D14: 1457.68 | E14: =D14-F14*C14 -> 583.072 | F14: =D14/B14 -> 291.536
A15: Barkoeling | B15: 5 | C15: 2 | D15: 799 | E15: =D15-F15*C15 -> 479.4 | F15: =D15/B15 -> 159.8
A16: Scorebord | B16: 10 | C16: 2 | D16: 18790.73 | E16: =D16-F16*C16 -> 15032.584 | F16: =D16/B16 -> 1879.073
A17: Ventilatie en warmtepomp systeem | B17: 10 | C17: 1 | D17: =49200-8817 -> 40383 | E17: =D17-F17*C17 -> 36344.7 | F17: =D17/B17 -> 4038.3 | G17: Op basis van huidge offertes uitgegaan van €61500 totale kosten, hier is de DUMAVA subsidie van €12.390 en het huidige duurzaamheidspotje €8.817 van af getrokken.
D18: =SUM(D3:D17) -> 100844.22 | E18: =SUM(E3:E17) -> 73254.133 | F18: =SUM(F3:F17) -> 11204.949
A21: 2025-2026
A22: Item | B22: Termijn | C22: Leeftijd | D22: Nieuwwaarde | E22: Waarde | F22: Afschrijvingskosten
A23: CV-Ketel | B23: 12 | C23: 7 | D23: 2554 | E23: 1063.58 | F23: 212.71
A24: Vaatwasser | B24: 5 | C24: 4 | D24: 1259 | E24: =D24-F24*C24 -> 251.8 | F24: 251.8
A25: Koelkasten | B25: 5 | C25: 4 | D25: 1673 | E25: 141 | F25: 141
A26: VEO-camera | B26: 5 | C26: 4 | D26: 999 | E26: 0 | F26: 399.6 | G26: De eerste Veo is dit jaar kapot gegaan en vervangen door een refurbished model, daarom nu volledig afgeschreven.
A27: VEO-camera 2 | B27: 5 | C27: 3 | D27: 1337 | E27: =D27-F27*C27 -> 534.8 | F27: 267.4
A28: Boxen | B28: 5 | C28: 3 | D28: 3812.7 | E28: =D28-F28*C28 -> 1525.08 | F28: 762.54
A29: Camera Mediateam | B29: 5 | C29: 3 | D29: 833.19 | E29: =D29-F29*C29 -> 333.27 | F29: 166.64
A30: Picknickbanken | B30: 5 | C30: 3 | D30: 1427.93 | E30: =D30-F30*C30 -> 571.16 | F30: 285.59
A31: Keuken | B31: 10 | C31: 2 | D31: 10434.61 | E31: =D31-F31*C31 -> 8347.69 | F31: 1043.46
A32: Mantelbuis scorebord | B32: 10 | C32: 2 | D32: 4267.34 | E32: =D32-F32*C32 -> 3413.88 | F32: 426.73
A33: Elektra | B33: 10 | C33: 2 | D33: 11593.06 | E33: =D33-F33*C33 -> 9274.44 | F33: 1159.31
A34: Jassen trainers | B34: 3 | C34: 2 | D34: 560 | E34: =D34-F34*C34 -> 186.66 | F34: 186.67
A35: 4 Picknickbanken | B35: 5 | C35: 2 | D35: 1457.69 | E35: =D35-F35*C35 -> 874.61 | F35: 291.54
A36: Barkoeling | B36: 5 | C36: 1 | D36: 799 | E36: =D36-F36*C36 -> 639.2 | F36: 159.8
A37: Scorebord | B37: 10 | C37: 1 | D37: 18790.73 | E37: =D37-F37*C37 -> 16911.66 | F37: 1879.07
D38: =SUM(D23:D37) -> 61798.25 | E38: =SUM(E23:E37) -> 44068.83 | F38: =SUM(F23:F37) -> 7633.86
A41: 2024-2025
A42: Item | B42: Termijn | C42: Leeftijd | D42: Nieuwwaarde | E42: Waarde | F42: Afschrijvingskosten
A43: CV-Ketel | B43: 12 | C43: 6 | D43: 2554 | E43: =D43-F43*C43 -> 1277 | F43: =D43/B43 -> 212.83333
A44: Vaatwasser | B44: 5 | C44: 3 | D44: 1259 | E44: =D44-F44*C44 -> 503.6 | F44: =D44/B44 -> 251.8
...

Sheet Bartapinstallatie
A1: Bar /tapinstallatie 31-7-2026
A3: Uitleg kosten | B3: Bedrag excl. btw
A4: Nieuwe bar | B4: 37923
A5: Installatie tap | B5: 5436
A6: Aankoppelen nieuwe bar | B6: 976.61
A7: Aansluiten nieuwe bar en extra groep koelcel | B7: 2484.1
A9: Item | B9: Termijn | C9: Leeftijd | E9: Nieuwwaarde | G9: Waarde | H9: Afschrijvingskosten
A10: Bar/tapinstallatie | B10: 10 | C10: 1 | E10: =SUM(B4:B7) -> 46819.71 | G10: =E10-C10*H10 -> 42137.74 | H10: 4681.97 | K10: Afschrijving 2025-2026 | M10: =$H$10 -> 4681.97
K11: Afschrijving 2026-2027 | M11: =$H$10 -> 4681.97
K12: Afschrijving 2027-2028 | M12: =$H$10 -> 4681.97
A13: Totaal | E13: =E10 -> 46819.71 | G13: =G10 -> 42137.74 | H13: 4681.97 | K13: Afschrijving 2028-2029 | M13: =$H$10 -> 4681.97
K14: Afschrijving 2029-2030 | M14: =$H$10 -> 4681.97
K15: Afschrijving 2030-2031 | M15: =$H$10 -> 4681.97
K16: Afschrijving 2031-2032 | M16: =$H$10 -> 4681.97
K17: Afschrijving 2032-2024 | M17: =$H$10 -> 4681.97
K18: Afschrijving 2033-2034 | M18: =$H$10 -> 4681.97
K19: Afschrijving 2034-2035 | M19: =$H$10 -> 4681.97

Sheet Voorraad
B1: Voorraad 31-07-2026 | C1: Prijs | E1: Totaal | H1: Voorraad 31-07-2025 | I1: Prijs | K1: Totaal
A2: Heineken | G2: Bavaria
A3: Heineken Bier (per tank) | B3: 1550 | C3: 1.24 | D3: per liter | E3: =B3*C3 -> 1922 | G3: Bavaria Bier (per tank) | H3: 0 | I3: 3 | J3: per liter | K3: =H3*I3 -> 0
A4: Stelz | G4: Stelz
A5: Stelz | B5: 19158 | C5: 0.82 | D5: per blikje | E5: =C5*B5 -> 15709.56 | G5: Stelz | H5: 13672 | I5: 0.82 | J5: per blikje | K5: =I5*H5 -> 11211.04
A6: Sligro | G6: Scheerder Drankengroothandel
A7: Coca Cola | B7: 11 | C7: 2.08 | D7: per fles | E7: =C7*B7 -> 22.88 | G7: Coca Cola | H7: 22 | I7: 2.09 | J7: per fles | K7: =I7*H7 -> 45.98
A8: Coca Cola zero | B8: 8 | C8: 2.02 | D8: per fles | E8: =C8*B8 -> 16.16 | G8: Coca Cola zero | H8: 28 | I8: 2.09 | J8: per fles | K8: =I8*H8 -> 58.52
A9: Fanta Orange Petfles | B9: 8 | C9: 2.19 | D9: per fles | E9: =C9*B9 -> 17.52 | G9: Fanta Orange | H9: 10 | I9: 2.09 | J9: per fles | K9: =I9*H9 -> 20.9
A10: Fanta Cassis Petfles | B10: 0 | C10: 2.56 | D10: per fles | E10: =C10*B10 -> 0 | G10: Fanta Orange Petfles | H10: 19 | I10: 2.58 | J10: per fles | K10: =I10*H10 -> 49.02
A11: Lipton ice tea | B11: 5 | C11: 1.94 | D11: per fles | E11: =C11*B11 -> 9.7 | G11: Fanta Cassis Petfles | H11: 8 | I11: 2.43 | J11: per fles | K11: =I11*H11 -> 19.44
A12: AA | B12: 32 | C12: 0.91 | D12: per flesje | E12: =C12*B12 -> 29.12 | G12: AA | H12: 23 | I12: 0.98 | J12: per flesje | K12: =I12*H12 -> 22.54
A13: Red Bull | B13: 0 | C13: 1.33 | D13: per blikje | E13: =C13*B13 -> 0 | G13: Red Bull | H13: 0 | I13: 1.42 | J13: per blikje | K13: =I13*H13 -> 0
A14: Fristi | B14: 23 | C14: 1.18 | D14: per blikje | E14: =C14*B14 -> 27.14 | G14: Fristi | H14: 0 | I14: 1.4 | J14: per blikje | K14: =I14*H14 -> 0
A15: Sonnema Beerenburg-Cola | B15: 194 | C15: 1.75 | D15: per blikje | E15: =C15*B15 -> 339.5 | G15: Wijn | H15: 0 | I15: 2 | J15: per fles | K15: =I15*H15 -> 0
A16: Sonnema Beerenburg-Sinas | B16: 139 | C16: 1.74 | D16: per blikje | E16: =C16*B16 -> 241.86 | G16: Sonnema Beerenburg-Cola | H16: 155 | I16: 1.86 | J16: per blikje | K16: =I16*H16 -> 288.3
A17: Chips dorito's nacho cheese | B17: 9 | C17: 0.58 | D17: Per zakje | E17: =C17*B17 -> 5.22 | G17: Sonnema Beerenburg-Sinas | H17: 254 | I17: 1.86 | J17: per blikje | K17: =I17*H17 -> 472.44
A18: Chips dorito's sweet chilli | B18: 3 | C18: 0.58 | D18: Per zakje | E18: =C18*B18 -> 1.74 | G18: Gin-tonic | H18: 0 | I18: 1.93 | J18: per blikje | K18: =I18*H18 -> 0
... A23: Chips Lay's wokkels | B23: 0 | C23: 0.59 | D23: per zakje | E23: =C23*B23 -> 0 | G23: Desperados 0,0% | H23: 47 | I23: 1.33 | J23: per flesje | K23: =I23*H23 -> 62.51
A24: Chips Lay's max paprika ribbel | B24: 4 | C24: 0.54 | D24: per zakje | E24: =B24*C24 -> 2.16 | G24: Desperados | H24: 219 | I24: 1.65 | J24: per flesje | K24: =I24*H24 -> 361.35
A25: Chips Lay's max naturel ribbel | B25: 3 | C25: 0.54 | D25: per zakje | E25: =B25*C25 -> 1.62 | G25: Bavaria petfles | H25: 54 | I25: 1.27 | J25: per flesje | K25: =I25*H25 -> 68.58
A26: Chips cheetos chipito cheese | B26: 0 | C26: 0.47 | D26: per zakje | E26: =B26*C26 -> 0 | G26: Bax abbey rave | H26: 24 | I26: 1.72 | J26: per blikje | K26: =I26*H26 -> 41.28
A27: Chips cheetos nibb-it | B27: 10 | C27: 0.34 | D27: per zakje | E27: =C27*B27 -> 3.4 | G27: Bax Kon Minder | H27: 18 | I27: 1.67 | J27: per blikje | K27: =I27*H27 -> 30.06
A28: Chips chio heartbreakers | B28: 0 | C28: 0.6 | D28: per zakje | E28: =B28*C28 -> 0 | G28: Bax Tropical | H28: 61 | I28: 1.71 | J28: per blikje | K28: =I28*H28 -> 104.31
A29: Chips Pombar | B29: 0 | C29: 0.6 | D29: per zakje | E29: =B29*C29 -> 0 | G29: Bax Gateway | H29: 116 | I29: 2.06 | J29: per blikje | K29: =I29*H29 -> 238.96
A30: Chips doritos bits honey barbecue | B30: 0 | C30: 0.4 | D30: per zakje | E30: =B30*C30 -> 0 | G30: Chips dorito's nacho cheese | H30: 0 | I30: 0.66 | J30: Per zakje | K30: =I30*H30 -> 0
A31: Chips doritos bits sweet paprika | B31: 55 | C31: 0.4 | D31: per zakje | E31: =C31*B31 -> 22 | G31: Chips dorito's sweet chilli | H31: 0 | I31: 0.73 | J31: Per zakje | K31: =I31*H31 -> 0
A32: Kitkat | B32: 0 | C32: 0.69 | D32: per zakje | E32: =B32*C32 -> 0 | G32: Chips lay's naturel | H32: 0 | I32: 0.66 | J32: Per zakje | K32: =I32*H32 -> 0
A33: Mars | B33: 53 | C33: 0.66 | D33: per stuk | E33: =C33*B33 -> 34.98 | G33: Chips Lay's paprika | H33: 0 | I33: 0.66 | J33: per zakje | K33: =I33*H33 -> 0
A34: Snickers | B34: 29 | C34: 0.7 | D34: per stuk | E34: =C34*B34 -> 20.3 | G34: Chips Lay's bolognese | H34: 0 | I34: 0.7 | J34: per zakje | K34: =I34*H34 -> 0
A35: Twix | B35: 20 | C35: 0.7 | D35: per stuk | E35: =C35*B35 -> 14 | G35: Chips Lay's bugles | H35: 0 | I35: 0.66 | J35: per zakje | K35: =I35*H35 -> 0
A36: Lion | B36: 0 | C36: 0.85 | D36: per stuk | E36: =B36*C36 -> 0 | G36: Chips Cheetos nibb-it | H36: 0 | I36: 0.49 | J36: per zakje | K36: =I36*H36 -> 0
A37: M&M's Choco | B37: 0 | C37: 0.75416667 | D37: per stuk | E37: =C37*B37 -> 0 | G37: Chips Lay's wokkels | H37: 0 | I37: 0.92 | J37: per zakje | K37: =I37*H37 -> 0
A38: M&M's Pinda | B38: 0 | C38: 0.82 | D38: per stuk | E38: =C38*B38 -> 0 | G38: Mars | H38: 30 | I38: 0.75 | J38: per stuk | K38: =I38*H38 -> 22.5
A39: M&M's blauw | B39: 0 | C39: 0.79 | D39: per stuk | E39: =C39*B39 -> 0 | G39: Snickers | H39: 21 | I39: 0.75 | J39: per stuk | K39: =I39*H39 -> 15.75
A40: Haribo starmix | B40: 24 | C40: 0.67 | D40: per zakje | E40: =C40*B40 -> 16.08 | G40: Twix | H40: 52 | I40: 0.7356 | J40: per stuk | K40: =I40*H40 -> 38.2512
A41: Haribo banaantjes | B41: 0 | C41: 0.6 | D41: per zakje | E41: =C41*B41 -> 0 | G41: M&M's Choco | H41: 0 | I41: 0.75416667 | J41: per stuk | K41: =I41*H41 -> 0
A42: Haribo Maomix | B42: 0 | C42: 0.71 | D42: per zakje | E42: =B42*C42 -> 0 | G42: M&M's Pinda | H42: 45 | I42: 0.73 | J42: per stuk | K42: =I42*H42 -> 32.85
A43: Haribo paste fruta | B43: 0 | C43: 0.72 | D43: per zakje | E43: =B43*C43 -> 0 | G43: M&M's blauw | H43: 10 | I43: 0.83 | J43: per stuk | K43: =I43*H43 -> 8.3
A44: Haribo tangfastics | B44: 0 | C44: 0.72 | D44: per zakje | E44: =B44*C44 -> 0 | G44: Haribo starmix | H44: 2 | I44: 0.67 | J44: per zakje | K44: =I44*H44 -> 1.34
...

Sheet Afschrijving teamkleding
A1: 46234 | B1: Termijn | C1: Leeftijd | D1: Nieuwwaarde | E1: Waarde | F1: Afschrijvingskosten
A2: Teamkleding heren 2 | B2: 3 | C2: 1 | D2: 711.89 | E2: =D2-F2*C2 -> 474.59333 | F2: =D2/B2 -> 237.29667
A3: Teamkleding heren 3 | B3: 3 | C3: 3 | D3: 897.81 | E3: =D3-F3*C3 -> 0 | F3: =D3/B3 -> 299.27
A4: Teamkleding dames 2 | B4: 3 | C4: 3 | D4: 783.81 | E4: =D4-F4*C4 -> 0 | F4: =D4/B4 -> 261.27
A5: Trainingspakken selectie | B5: 3 | C5: 1 | D5: 8317.84 | E5: =D5-F5*C5 -> 5545.2267 | F5: =D5/B5 -> 2772.6133
A6: Teamkleding heren 1 | B6: 3 | C6: 2 | D6: 314.34 | E6: =D6-F6*C6 -> 104.78 | F6: =D6/B6 -> 104.78
A8: Totaal | D8: =SUM(D2:D6) -> 11025.69 | E8: =SUM(E2:E6) -> 6124.6 | F8: =SUM(F2:F6) -> 3675.23
A10: 45869 | B10: Termijn | C10: Leeftijd | D10: Nieuwwaarde | E10: Waarde | F10: Afschrijvingskosten
A11: Teamkleding heren 2 | B11: 3 | C11: 3 | D11: 726.31 | E11: =D11-F11*C11 -> 0 | F11: =D11/B11 -> 242.10333
A12: Teamkleding heren 3 | B12: 3 | C12: 2 | D12: 897.81 | E12: =D12-F12*C12 -> 299.27 | F12: =D12/B12 -> 299.27
A13: Teamkleding dames 2 | B13: 3 | C13: 2 | D13: 783.81 | E13: =D13-F13*C13 -> 261.27 | F13: =D13/B13 -> 261.27
A14: Teamkleding heren 1 | B14: 3 | C14: 1 | D14: 314.34 | E14: =D14-F14*C14 -> 209.56 | F14: =D14/B14 -> 104.78
A16: Totaal | D16: =SUM(D11:D14) -> 2722.27 | E16: =SUM(E11:E14) -> 770.1 | F16: =SUM(F11:F14) -> 907.42333
A18: 45504 | B18: Termijn | C18: Leeftijd | D18: Nieuwwaarde | E18: Waarde | F18: Afschrijvingskosten
A19: Teamkleding heren 2 | B19: 3 | C19: 2 | D19: 726.31 | E19: =D19-F19*C19 -> 242.10333 | F19: =D19/B19 -> 242.10333
A20: Teamkleding heren 3 | B20: 3 | C20: 1 | D20: 897.81 | E20: =D20-F20*C20 -> 598.54 | F20: =D20/B20 -> 299.27
A21: Teamkleding dames 2 | B21: 3 | C21: 1 | D21: 783.81 | E21: =D21-F21*C21 -> 522.54 | F21: =D21/B21 -> 261.27
A23: Totaal | D23: =SUM(D19:D21) -> 2407.93 | E23: =SUM(E19:E21) -> 1363.1833 | F23: =SUM(F19:F21) -> 802.64333
A25: 45138
A26: Item | B26: Termijn | C26: Leeftijd | D26: Nieuwwaarde | E26: Waarde | F26: Afschrijvingskosten
A28: Teamshirts heren 1 | B28: 3 | C28: 3 | D28: 779.43 | E28: =D28-F28*C28 -> 0 | F28: =D28/B28 -> 259.81
A29: Teamkleding dames 3 | B29: 3 | C29: 3 | D29: 624.81 | E29: =D29-F29*C29 -> 0 | F29: =D29/B29 -> 208.27
A30: Teamkleding heren 3 | B30: 3 | C30: 3 | D30: 594.82 | E30: =D30-F30*C30 -> 0 | F30: =D30/B30 -> 198.27333
A31: Teamkleding heren 2 | B31: 3 | C31: 1 | D31: 726.31 | E31: =D31-F31*C31 -> 484.20667 | F31: =D31/B31 -> 242.10333
A34: Totaal | D34: =SUM(D28:D32) -> 2725.37 | E34: =SUM(E28:E31) -> 484.20667 | F34: =SUM(F28:F31) -> 908.45667

Sheet Merchandise
A1: 45869
A3: Item | B3: Aantal | C3: Waarde per stuk | D3: Waarde totaal
A4: Buckethats | B4: 9 | C4: 3.03 | D4: =C4*B4 -> 27.27
A5: Sjaals | B5: 0 | C5: 5.76 | D5: =C5*B5 -> 0
A6: TKBandhanddoek | B6: 0 | C6: 28.99 | D6: =C6*B6 -> 0
A7: Pockies | B7: 18 | C7: 13.5 | D7: =B7*C7 -> 243
D8: =SUM(D4:D7) -> 270.27

Sheet Debiteuren
A1: Debiteuren per 31 juli 2026
A3: Drankengroothandel Scheerder B.V. | B3: 20516.48 | C3: Inmiddels betaald
A4: Gemeentekantoor Gedempte Zuiderdiep | B4: 2334 | C4: Inmiddels betaald
A5: Actueel Personeel B.V. | B5: 725
A6: Broodje Ben Noord B.V. | B6: 500
A7: JJA light productions | B7: 550 | C7: Inmiddels betaald
A8: Napoli B.V. | B8: 125 | C8: Inmiddels betaald
A9: Pollo Picante B.V. | B9: 3175
A10: Sportmaat | B10: 2500 | C10: Sponsorbedrag voor seizoen 25/26, te besteden bij sportmaat
A11: Stëlz B.V. | B11: 4700.01
A12: The Burger Company B.V. | B12: 850
A13: Vonk Traineeship B.V. | B13: 450
A14: TMC group B.V. | B14: 350
A15: NO op papier | B15: 42 | C15: 6 euro inmiddels betaald
B16: =SUM(B3:B15) -> 36817.49

Sheet Crediteuren
A1: Crediteuren per 31 juli 2026
A3: Eenkhoorn Financiële Dienstverlening B.V. | C3: 1199 | D3: Optreden Bittersweet IT, inmiddels betaald
A4: Jara Vriese | C4: 59.96 | D4: Kosten openingsact IT, inmiddels betaald
A5: Noordelijk Belastingkantoor | C5: 3435.53 | D5: aanslag reclamebelasting en de waterschaps- en zuiveringsheffing voor 2026-2027; wordt in termijnen geincasseerd
A6: Renewi Nederland B.V. | C6: 400.8 | D6: Afval, schoonmaakkosten juli, inmiddels betaald
A7: Tottal Feestverhuur Groningen B.V. | C7: 425 | D7: Entertainment IT, inmiddels betaald
A8: USB van Thalia | C8: 338.68 | D8: Entertainment IT, inmiddels betaald
A9: Wilmer Muis | C9: 11.93 | D9: Kosten IT, inmiddels betaald
A10: Inris restaurants en bars B.V. | C10: 215.98 | D10: Inmiddels betaald
A11: Suzan Jansen | C11: 148.23 | D11: Dassen bestuur 25/26, Inmiddels betaald
A12: Locatie Overdrachtsweekend | C12: 1220 | D12: De locatie voor ODW Bestuur 60, inmiddels betaald
A13: Sportmaat | C13: 367.92 | D13: Ballen volgend seizoen, inmiddels betaald
C14: =SUM(C3:C13) -> 7823.03

Sheet Commissies
A1: Almanak
B3: Lasten | I3: Baten
C5: Drukkosten | D5: 8785.4 | H5: Contributie leden | I5: =D19-SUM(I6:I9) -> 7081.79
C6: Adobe | D6: 58.53 | H6: Sponsoren | I6: 1100
C7: Promotiemateriaal | D7: 59.67 | H7: Voetteksten en extra pagina's | I7: 604
C8: Reiskosten | D8: 77.35 | H8: Fust | I8: 75
C9: Fusten | D9: 75 | H9: Omzet Flopverkoop | I9: 424.5
C10: Onvoorziene kosten | D10: 113.27
C11: Kosten Flopverkoop | D11: 116.07
C19: Totaal | D19: =SUM(D5:D17) -> 9285.29 | H19: Totaal | I19: =SUM(I5:I9) -> 9285.29
A21: Actiebockers
B23: Lasten | I23: Baten
C25: Kosten Gala | D25: 14206.38 | H25: Inschrijfgeld pubquiz | I25: 240
C26: Pubquiz | D26: 242.24 | H26: Kaartverkoop gala | I26: 12837.5
C27: GDD | D27: 676.16 | H27: Veiling + acties GDD | I27: 4908.29
H28: Bier en stelz GDD | I28: 652.9
H29: Statiegeld TKB | I29: 1465.1
H30: Donatie TKB | I30: 2250
C33: Donatie aan goede doel en kosten cheque | D33: =IF(SUM(I25:I31)-SUM(D25:D28)<0,"",(SUM(I25:I31)-SUM(D25:D28))) -> 7229.01
C35: Totaal | D35: =SUM(D24:D33) -> 22353.79 | H35: Totaal | I35: =SUM(I25:I31) -> 22353.79
A39: Snowco
B41: Lasten | I41: Baten
C44: Fusten | D44: 1400 | H44: Bijdrage TKB | I44: 4500
C45: Pizza's | D45: 1600 | H45: Omzet flopverkoop | I45: 299.5
C46: Boodschappenpakket | D46: 766.08 | H46: Begroot fust TKB | I46: 75
C47: Infoborrel Flop | D47: 75 | H47: Yoonly budget | I47: 1000
C48: Stickers | D48: 196
C49: Goodiebags met inhoud | D49: 300.25
C50: Kosten flopverkoop | D50: 88.69
C51: Begroot fust TKB | D51: 75
C52: Sleetje rijden | D52: 38.27
C53: BBQ | D53: 900
C54: Onvoorziene kosten | D54: 646.1
D56: =IF(SUM(I43:I49)-SUM(D43:D54)<0,"",(SUM(I43:I49)-SUM(D43:D54))) | H56: Resultaat (verlies) | I56: =IF(SUM(I43:I49)-SUM(D43:D54)>0,"",(SUM(I43:I49)-SUM(D43:D54))) -> -210.89
C58: Totaal | D58: =SUM(D43:D56) -> 6085.39 | H58: Totaal | I58: =SUM(I43:I54)-I56 -> 6085.39
A62: International Tournament
B64: Lasten | I64: Baten
B66: Faciliteiten | C66: Huur tentenkamp | D66: 1607 | H66: Flopverkoop 1 | I66: 341
C67: Huur tenten organisatie | D67: 155.81 | H67: Flopverkoop 2 | I67: 376
C68: Veldbedden tentenkamp | D68: 630 | H68: Inschrijfgelden | I68: 11180
...

Sheet Diverse baten
A1: Diverse baten per 31 juli 2026
A2: Diverse boetes | C2: 2433.33
A3: Bijdrage Rabo Clubsupport 24/25 | C3: 845.43
A4: Boete te laat Aclotiveren | C4: 875
A5: Boete te laat afmelden | C5: 450
A6: Bavaria sponsorbedrag | C6: 1347.5
A7: Vergoeding verzekering inbraak | C7: 125
A8: Waarde merchandise | C8: 13.25
A9: Transitievergoeding Fred Strating | C9: 677.46
A10: Winst IT | C10: 1292.53 | D10: Door een aanpassing in terug te vorderen btw is er uiteindelijk geen winst op de toernooien gemaakt
A11: Winst KB | C11: 118.69 | D11: Door een aanpassing in terug te vorderen btw is er uiteindelijk geen winst op de toernooien gemaakt
A12: Niet gebruikte stuto ticket | C12: 28
A13: Totaal | C13: =SUM(C2:C12) -> 8206.19

Sheet Opbouw sponsorbedragen
A1: Opbouw sponsorbedragen
A2: Shirt a la minute | B2: 350 | C2: Subsponsoren | E2: Pollo Picante | F2: 650 | G2: Bezorgbord | I2: Shirt a la minute | J2: 250 | K2: Almanak | M2: Stëlz | N2: 2000 | O2: ITKB
A3: JJA Light productions | B3: 550 | C3: Subsponsoren | E3: New York Pizza | F3: 600 | G3: Bezorgbord | I3: CCR Lemmer | J3: 125 | K3: Almanak | M3: Stëlz | N3: 1500 | O3: IT | P3: Extra sponsoring
A4: Actueel personeel | B4: 725 | C4: Subsponsoren | E4: The Burger Company | F4: 567 | G4: Bezorgbord | I4: Dominos | J4: 300 | K4: Almanak | M4: Pollo Picante | N4: 1200 | O4: ITKB
A5: 't Gat | B5: 600 | C5: Subsponsoren | E5: Broodje Ben | F5: 500 | G5: Bezorgbord | I5: Napoli | J5: 125 | K5: Almanak | M5: Trust marketing | N5: 150 | O5: ITKB
A6: Benny Bakker | B6: 150 | C6: Subsponsoren | I6: Streetlife | J6: 300 | K6: Almanak | M6: Stockroom | N6: 250 | O6: ITKB
A7: 't Fust | B7: 400 | C7: Subsponsoren | M7: Shirt a la minute | N7: 400 | O7: ITKB
A8: All prepare | B8: 175 | C8: Subsponsoren | M8: PROVA | N8: 175 | O8: IT
A9: Parcel safe | B9: 175 | C9: Subsponsoren | M9: GUF | N9: 1000 | O9: ITKB
A10: Pitch en Putt | B10: 300 | C10: Subsponsoren
A11: Vrijval | B11: 150 | C11: Shirtsponsor H2
A12: Pollo Picante | B12: 400 | C12: Standgeld foodtruck
A13: TMC group | B13: 350 | C13: Subsponsoren
B16: =SUM(B2:B14) -> 4325 | F16: =SUM(F2:F7) -> 2317 | J16: =SUM(J2:J12) -> 1100 | N16: =SUM(N2:N10) -> 6675
